BEGIN:VCALENDAR
VERSION:2.0
PRODID:-//www.cokesburyumc.info//NONSGML kigkonsult.se iCalcreator 2.39.1//
CALSCALE:GREGORIAN
METHOD:PUBLISH
UID:c9da21ec-87b8-437c-9334-ea053c4876b6
X-WR-CALNAME:www.cokesburyumc.info
X-WR-CALDESC:www.cokesburyumc.info
X-WR-TIMEZONE:America/Los_Angeles
X-LIC-LOCATION:America/Los_Angeles
BEGIN:VEVENT
UID:e8cca9ea-02e6-4099-83b2-204595939771
DTSTAMP:20260420T060125Z
CLASS:PUBLIC
DTSTART;TZID=America/Los_Angeles:20250810T000000
DTEND;TZID=America/Los_Angeles:20250810T000000
SUMMARY:Sunday Supper
TRANSP:OPAQUE
BEGIN:VALARM
ACTION:DISPLAY
DESCRIPTION:Sunday Supper
TRIGGER:-PT15M
END:VALARM
END:VEVENT
END:VCALENDAR
