BEGIN:VCALENDAR
VERSION:2.0
PRODID:-//www.cokesburyumc.info//NONSGML kigkonsult.se iCalcreator 2.39.1//
CALSCALE:GREGORIAN
METHOD:PUBLISH
UID:80b13e0d-d2e7-44f5-a516-3486f84962d2
X-WR-CALNAME:www.cokesburyumc.info
X-WR-CALDESC:www.cokesburyumc.info
X-WR-TIMEZONE:America/Los_Angeles
X-LIC-LOCATION:America/Los_Angeles
BEGIN:VEVENT
UID:1477fc43-a34f-44eb-9533-ba3a88d415ea
DTSTAMP:20260420T062151Z
CLASS:PUBLIC
DTSTART;TZID=America/Los_Angeles:20260520T100000
DTEND;TZID=America/Los_Angeles:20260520T120000
LOCATION:Cokesbury UMC
SUMMARY:Angel Food Pantry
TRANSP:OPAQUE
BEGIN:VALARM
ACTION:DISPLAY
DESCRIPTION:Angel Food Pantry
TRIGGER:-PT15M
END:VALARM
END:VEVENT
END:VCALENDAR
